BEGIN:VCALENDAR
VERSION:2.0
CALSCALE:GREGORIAN
PRODID:Sportnet.sk
METHOD:PUBLISH
X-PUBLISHED-TTL:PT1H
BEGIN:VEVENT
UID:tvprogram-cal:69d402ba56c12320c391848e
SUMMARY:Šport: Tatran Prešov - MHC Štart Nové Zámky
DTSTAMP:20260315T134300Z
DTSTART:20260426T155000Z
DTEND:20260426T174500Z
DESCRIPTION:Hádzaná\, Slovensko\, semifinále
END:VEVENT
END:VCALENDAR
