BEGIN:VCALENDAR
VERSION:2.0
CALSCALE:GREGORIAN
PRODID:Sportnet.sk
METHOD:PUBLISH
X-PUBLISHED-TTL:PT1H
BEGIN:VEVENT
UID:tvprogram-cal:69d402ba56c12320c391848b
SUMMARY:Šport: Preteky
DTSTAMP:20260315T134300Z
DTSTART:20260426T125500Z
DTEND:20260426T144000Z
DESCRIPTION:Cyklistika\, Liége - Bastogne - Liége
END:VEVENT
END:VCALENDAR
