BEGIN:VCALENDAR
VERSION:2.0
CALSCALE:GREGORIAN
PRODID:Sportnet.sk
METHOD:PUBLISH
X-PUBLISHED-TTL:PT1H
BEGIN:VEVENT
UID:tvprogram-cal:69d402ba56c12320c3918485
SUMMARY:Šport: ŠK Hornets Košice - Slávia UK Bratislava
DTSTAMP:20260315T134300Z
DTSTART:20260426T075500Z
DTEND:20260426T090500Z
DESCRIPTION:Vodné pólo\, Slovensko\, semifinále
END:VEVENT
END:VCALENDAR
