BEGIN:VCALENDAR
VERSION:2.0
CALSCALE:GREGORIAN
PRODID:Sportnet.sk
METHOD:PUBLISH
X-PUBLISHED-TTL:PT1H
BEGIN:VEVENT
UID:tvprogram-cal:69d402ba56c12320c3918482
SUMMARY:Šport: HK Bojnice - MŠK Považská Bystrica
DTSTAMP:20260315T134300Z
DTSTART:20260425T155500Z
DTEND:20260425T174500Z
DESCRIPTION:Hádzaná\, Slovensko\, semifinále
END:VEVENT
END:VCALENDAR
