BEGIN:VCALENDAR
VERSION:2.0
CALSCALE:GREGORIAN
PRODID:Sportnet.sk
METHOD:PUBLISH
X-PUBLISHED-TTL:PT1H
BEGIN:VEVENT
UID:tvprogram-cal:69d402ba56c12320c391847c
SUMMARY:Šport: Spartak Myjava - ŠK Slovan Bratislava
DTSTAMP:20260315T134300Z
DTSTART:20260425T115500Z
DTEND:20260425T135500Z
DESCRIPTION:Futbal\, I. liga\, 4. kolo nadstavby
END:VEVENT
END:VCALENDAR
