BEGIN:VCALENDAR
VERSION:2.0
CALSCALE:GREGORIAN
PRODID:Sportnet.sk
METHOD:PUBLISH
X-PUBLISHED-TTL:PT1H
BEGIN:VEVENT
UID:tvprogram-cal:69d402ba56c12320c391847b
SUMMARY:Šport: MFK Dukla Banská Bystrica - MŠK Púchov
DTSTAMP:20260315T134300Z
DTSTART:20260424T145500Z
DTEND:20260424T165500Z
DESCRIPTION:Futbal\, II. liga\, 27. kolo
END:VEVENT
END:VCALENDAR
