BEGIN:VCALENDAR
VERSION:2.0
CALSCALE:GREGORIAN
PRODID:Sportnet.sk
METHOD:PUBLISH
X-PUBLISHED-TTL:PT1H
BEGIN:VEVENT
UID:tvprogram-cal:69d402ba56c12320c3918468
SUMMARY:Šport: FK Pohronie - MFK Dukla Banská Bystrica
DTSTAMP:20260315T134300Z
DTSTART:20260421T142500Z
DTEND:20260421T162500Z
DESCRIPTION:Futbal\, II. liga\, 26. kolo
END:VEVENT
END:VCALENDAR
