BEGIN:VCALENDAR
VERSION:2.0
CALSCALE:GREGORIAN
PRODID:Sportnet.sk
METHOD:PUBLISH
X-PUBLISHED-TTL:PT1H
BEGIN:VEVENT
UID:tvprogram-cal:69d402ba56c12320c3918463
SUMMARY:Šport: Ženy do 63 kg
DTSTAMP:20260315T134300Z
DTSTART:20260421T120000Z
DTEND:20260421T135000Z
DESCRIPTION:Vzpieranie\, ME\, Batumi
END:VEVENT
END:VCALENDAR
