BEGIN:VCALENDAR
VERSION:2.0
CALSCALE:GREGORIAN
PRODID:Sportnet.sk
METHOD:PUBLISH
X-PUBLISHED-TTL:PT1H
BEGIN:VEVENT
UID:tvprogram-cal:69d402ba56c12320c391845f
SUMMARY:Šport: Ženy do 58 kg
DTSTAMP:20260315T134300Z
DTSTART:20260420T150000Z
DTEND:20260420T165000Z
DESCRIPTION:Vzpieranie\, ME\, Batumi
END:VEVENT
END:VCALENDAR
