BEGIN:VCALENDAR
VERSION:2.0
CALSCALE:GREGORIAN
PRODID:Sportnet.sk
METHOD:PUBLISH
X-PUBLISHED-TTL:PT1H
BEGIN:VEVENT
UID:tvprogram-cal:69d402ba56c12320c391845b
SUMMARY:Šport: Muži do 60 kg
DTSTAMP:20260315T134300Z
DTSTART:20260420T090000Z
DTEND:20260420T105000Z
DESCRIPTION:Vzpieranie\, ME\, Batumi
END:VEVENT
END:VCALENDAR
