BEGIN:VCALENDAR
VERSION:2.0
CALSCALE:GREGORIAN
PRODID:Sportnet.sk
METHOD:PUBLISH
X-PUBLISHED-TTL:PT1H
BEGIN:VEVENT
UID:tvprogram-cal:69ced8d956c12320c307ae69
SUMMARY:Joj šport 2: VK Slávia SPU Nitra - Rieker UJS Komárno
DTSTAMP:20260315T134300Z
DTSTART:20260421T165000Z
DTEND:20260421T195000Z
DESCRIPTION:Volejbal\, Slovensko\, semifinále
END:VEVENT
END:VCALENDAR
