BEGIN:VCALENDAR
VERSION:2.0
CALSCALE:GREGORIAN
PRODID:Sportnet.sk
METHOD:PUBLISH
X-PUBLISHED-TTL:PT1H
BEGIN:VEVENT
UID:tvprogram-cal:69ced8d956c12320c307ae2f
SUMMARY:Joj šport: Kanada - Slovensko
DTSTAMP:20260315T134300Z
DTSTART:20260422T155500Z
DTEND:20260422T185500Z
DESCRIPTION:Ľadový hokej\, MS U18
END:VEVENT
END:VCALENDAR
