BEGIN:VCALENDAR
VERSION:2.0
CALSCALE:GREGORIAN
PRODID:Sportnet.sk
METHOD:PUBLISH
X-PUBLISHED-TTL:PT1H
BEGIN:VEVENT
UID:tvprogram-cal:69ced8d956c12320c307ae28
SUMMARY:Joj šport: HC Prešov - HK Dukla Trenčín
DTSTAMP:20260315T134300Z
DTSTART:20260421T155500Z
DTEND:20260421T192500Z
DESCRIPTION:Ľadový hokej\, Tipsport liga\, baráž
END:VEVENT
END:VCALENDAR
