BEGIN:VCALENDAR
VERSION:2.0
CALSCALE:GREGORIAN
PRODID:Sportnet.sk
METHOD:PUBLISH
X-PUBLISHED-TTL:PT1H
BEGIN:VEVENT
UID:tvprogram-cal:69ced8d956c12320c307ae27
SUMMARY:Joj šport: HK Nitra - HC Slovan Bratislava
DTSTAMP:20260315T134300Z
DTSTART:20260420T155500Z
DTEND:20260420T192500Z
DESCRIPTION:Ľadový hokej\, Tipsport liga\, finále
END:VEVENT
END:VCALENDAR
