BEGIN:VCALENDAR
VERSION:2.0
CALSCALE:GREGORIAN
PRODID:Sportnet.sk
METHOD:PUBLISH
X-PUBLISHED-TTL:PT1H
BEGIN:VEVENT
UID:tvprogram-cal:69cd24e9aae1188f03234820
SUMMARY:voyo.sk: Hertha BSC - Holstein Kiel
DTSTAMP:20260315T134300Z
DTSTART:20260425T105500Z
DTEND:20260425T130500Z
DESCRIPTION:Futbal\, Nemecko 2\, 31. kolo
END:VEVENT
END:VCALENDAR
