BEGIN:VCALENDAR
VERSION:2.0
CALSCALE:GREGORIAN
PRODID:Sportnet.sk
METHOD:PUBLISH
X-PUBLISHED-TTL:PT1H
BEGIN:VEVENT
UID:tvprogram-cal:69cd24e9aae1188f03234803
SUMMARY:Nova Sport 5: Olympique Lyon - AJ Auxerre
DTSTAMP:20260315T134300Z
DTSTART:20260425T125500Z
DTEND:20260425T150500Z
DESCRIPTION:Futbal\, Nemecko\, 31. kolo
END:VEVENT
END:VCALENDAR
