BEGIN:VCALENDAR
VERSION:2.0
CALSCALE:GREGORIAN
PRODID:Sportnet.sk
METHOD:PUBLISH
X-PUBLISHED-TTL:PT1H
BEGIN:VEVENT
UID:tvprogram-cal:69cd24e9aae1188f032347f9
SUMMARY:Nova Sport 5: Draft - 1. kolo
DTSTAMP:20260315T134300Z
DTSTART:20260424T000000Z
DTEND:20260424T040000Z
DESCRIPTION:Americký futbal\, NFL\, Pittsburgh
END:VEVENT
END:VCALENDAR
