BEGIN:VCALENDAR
VERSION:2.0
CALSCALE:GREGORIAN
PRODID:Sportnet.sk
METHOD:PUBLISH
X-PUBLISHED-TTL:PT1H
BEGIN:VEVENT
UID:tvprogram-cal:69cd24e9aae1188f0323477f
SUMMARY:Nova Sport 2: Manchester City - Southampton FC
DTSTAMP:20260315T134300Z
DTSTART:20260425T161000Z
DTEND:20260425T182000Z
DESCRIPTION:Futbal\, FA Cup\, semifinále
END:VEVENT
END:VCALENDAR
