BEGIN:VCALENDAR
VERSION:2.0
CALSCALE:GREGORIAN
PRODID:Sportnet.sk
METHOD:PUBLISH
X-PUBLISHED-TTL:PT1H
BEGIN:VEVENT
UID:tvprogram-cal:69cd24e9aae1188f0323477b
SUMMARY:Nova Sport 2: Saracens - Leicester Tigers
DTSTAMP:20260315T134300Z
DTSTART:20260425T140000Z
DTEND:20260425T160000Z
DESCRIPTION:Ragby\, Anglicko\, 14. kolo
END:VEVENT
END:VCALENDAR
