BEGIN:VCALENDAR
VERSION:2.0
CALSCALE:GREGORIAN
PRODID:Sportnet.sk
METHOD:PUBLISH
X-PUBLISHED-TTL:PT1H
BEGIN:VEVENT
UID:tvprogram-cal:69cd24e9aae1188f03234779
SUMMARY:Nova Sport 2: Stade Reims - AS Nancy-Lorraine
DTSTAMP:20260315T134300Z
DTSTART:20260425T115500Z
DTEND:20260425T140000Z
DESCRIPTION:Futbal\, Francúzsko 2\, 32. kolo
END:VEVENT
END:VCALENDAR
