BEGIN:VCALENDAR
VERSION:2.0
CALSCALE:GREGORIAN
PRODID:Sportnet.sk
METHOD:PUBLISH
X-PUBLISHED-TTL:PT1H
BEGIN:VEVENT
UID:tvprogram-cal:69cd24e9aae1188f03234771
SUMMARY:Nova Sport 2: Newcastle Red Bull - Bristol Bears
DTSTAMP:20260315T134300Z
DTSTART:20260424T184000Z
DTEND:20260424T210000Z
DESCRIPTION:Ragby\, Anglicko\, 14. kolo
END:VEVENT
END:VCALENDAR
