BEGIN:VCALENDAR
VERSION:2.0
CALSCALE:GREGORIAN
PRODID:Sportnet.sk
METHOD:PUBLISH
X-PUBLISHED-TTL:PT1H
BEGIN:VEVENT
UID:tvprogram-cal:69cd24e9aae1188f03234761
SUMMARY:Nova Sport 2: Buffalo Sabres - Boston Bruins
DTSTAMP:20260315T134300Z
DTSTART:20260421T233500Z
DTEND:20260422T023000Z
DESCRIPTION:Ľadový hokej\, NHL\, play-off
END:VEVENT
END:VCALENDAR
