BEGIN:VCALENDAR
VERSION:2.0
CALSCALE:GREGORIAN
PRODID:Sportnet.sk
METHOD:PUBLISH
X-PUBLISHED-TTL:PT1H
BEGIN:VEVENT
UID:tvprogram-cal:69cd24e9aae1188f0323475e
SUMMARY:Nova Sport 2: RC Lens - Toulouse FC
DTSTAMP:20260315T134300Z
DTSTART:20260421T190500Z
DTEND:20260421T213000Z
DESCRIPTION:Futbal\, Francúzsko - pohár\, semifinále
END:VEVENT
END:VCALENDAR
