BEGIN:VCALENDAR
VERSION:2.0
CALSCALE:GREGORIAN
PRODID:Sportnet.sk
METHOD:PUBLISH
X-PUBLISHED-TTL:PT1H
BEGIN:VEVENT
UID:tvprogram-cal:69cd24e9aae1188f0323475d
SUMMARY:Nova Sport 2: Edmonton Oilers - Anaheim Ducks
DTSTAMP:20260315T134300Z
DTSTART:20260421T020500Z
DTEND:20260421T050000Z
DESCRIPTION:Ľadový hokej\, NHL\, play-off
END:VEVENT
END:VCALENDAR
