BEGIN:VCALENDAR
VERSION:2.0
CALSCALE:GREGORIAN
PRODID:Sportnet.sk
METHOD:PUBLISH
X-PUBLISHED-TTL:PT1H
BEGIN:VEVENT
UID:tvprogram-cal:69cd24e9aae1188f03234712
SUMMARY:voyo.sk: VfB Stuttgart - SC Freiburg
DTSTAMP:20260315T134300Z
DTSTART:20260423T184000Z
DTEND:20260423T204500Z
DESCRIPTION:Futbal\, Nemecko - pohár\, semifinále
END:VEVENT
END:VCALENDAR
