BEGIN:VCALENDAR
VERSION:2.0
CALSCALE:GREGORIAN
PRODID:Sportnet.sk
METHOD:PUBLISH
X-PUBLISHED-TTL:PT1H
BEGIN:VEVENT
UID:tvprogram-cal:69cd24e9aae1188f03234700
SUMMARY:voyo.sk: Tampa Bay Lightning - Montreal Canadiens
DTSTAMP:20260315T134300Z
DTSTART:20260421T230500Z
DTEND:20260422T020500Z
DESCRIPTION:Ľadový hokej\, NHL\, play-off
END:VEVENT
END:VCALENDAR
