BEGIN:VCALENDAR
VERSION:2.0
CALSCALE:GREGORIAN
PRODID:Sportnet.sk
METHOD:PUBLISH
X-PUBLISHED-TTL:PT1H
BEGIN:VEVENT
UID:tvprogram-cal:69cd24e9aae1188f032346dd
SUMMARY:Nova Sport 1: Boston Bruins - Buffalo Sabres
DTSTAMP:20260315T134300Z
DTSTART:20260426T180500Z
DTEND:20260426T210000Z
DESCRIPTION:Ľadový hokej\, NHL\, play-off
END:VEVENT
END:VCALENDAR
