BEGIN:VCALENDAR
VERSION:2.0
CALSCALE:GREGORIAN
PRODID:Sportnet.sk
METHOD:PUBLISH
X-PUBLISHED-TTL:PT1H
BEGIN:VEVENT
UID:tvprogram-cal:69cd24e9aae1188f032346d8
SUMMARY:Nova Sport 1: Paris FC - Lille OSC
DTSTAMP:20260315T134300Z
DTSTART:20260426T151000Z
DTEND:20260426T172000Z
DESCRIPTION:Futbal\, Francúzko\, 31. kolo
END:VEVENT
END:VCALENDAR
