BEGIN:VCALENDAR
VERSION:2.0
CALSCALE:GREGORIAN
PRODID:Sportnet.sk
METHOD:PUBLISH
X-PUBLISHED-TTL:PT1H
BEGIN:VEVENT
UID:tvprogram-cal:69cd24e9aae1188f032346d7
SUMMARY:Nova Sport 1: USK Praha - Žabiny Brno
DTSTAMP:20260315T134300Z
DTSTART:20260426T125000Z
DTEND:20260426T150000Z
DESCRIPTION:Basketbal\, Česko\, finále
END:VEVENT
END:VCALENDAR
