BEGIN:VCALENDAR
VERSION:2.0
CALSCALE:GREGORIAN
PRODID:Sportnet.sk
METHOD:PUBLISH
X-PUBLISHED-TTL:PT1H
BEGIN:VEVENT
UID:tvprogram-cal:69cd24e9aae1188f032346d1
SUMMARY:Nova Sport 1: Philadelphia Flyers - Pittsburgh Penguins
DTSTAMP:20260315T134300Z
DTSTART:20260426T000500Z
DTEND:20260426T024500Z
DESCRIPTION:Ľadový hokej\, NHL\, play-off
END:VEVENT
END:VCALENDAR
