BEGIN:VCALENDAR
VERSION:2.0
CALSCALE:GREGORIAN
PRODID:Sportnet.sk
METHOD:PUBLISH
X-PUBLISHED-TTL:PT1H
BEGIN:VEVENT
UID:tvprogram-cal:69cd24e9aae1188f032346ae
SUMMARY:Nova Sport 1: Pittsburgh Penguins - Philadelphia Flyers
DTSTAMP:20260315T134300Z
DTSTART:20260420T230500Z
DTEND:20260421T014500Z
DESCRIPTION:Ľadový hokej\, NHL\, play-off
END:VEVENT
END:VCALENDAR
