BEGIN:VCALENDAR
VERSION:2.0
CALSCALE:GREGORIAN
PRODID:Sportnet.sk
METHOD:PUBLISH
X-PUBLISHED-TTL:PT1H
BEGIN:VEVENT
UID:tvprogram-cal:69cd16d8aae1188f030db721
SUMMARY:Premier Sport 2: 3. kolo
DTSTAMP:20260315T134300Z
DTSTART:20260426T130000Z
DTEND:20260426T150000Z
DESCRIPTION:Tenis\, ATP 1000\, Madrid
END:VEVENT
END:VCALENDAR
