BEGIN:VCALENDAR
VERSION:2.0
CALSCALE:GREGORIAN
PRODID:Sportnet.sk
METHOD:PUBLISH
X-PUBLISHED-TTL:PT1H
BEGIN:VEVENT
UID:tvprogram-cal:69cd16d8aae1188f030db5cc
SUMMARY:Nova Sport 6: Portland Trail Blazers - San Antonio Spurs
DTSTAMP:20260315T134300Z
DTSTART:20260426T193500Z
DTEND:20260426T220500Z
DESCRIPTION:Basketbal\, NBA\, play-off
END:VEVENT
END:VCALENDAR
