BEGIN:VCALENDAR
VERSION:2.0
CALSCALE:GREGORIAN
PRODID:Sportnet.sk
METHOD:PUBLISH
X-PUBLISHED-TTL:PT1H
BEGIN:VEVENT
UID:tvprogram-cal:69cd16d8aae1188f030db5c2
SUMMARY:Nova Sport 6: Preteky
DTSTAMP:20260315T134300Z
DTSTART:20260426T084500Z
DTEND:20260426T100000Z
DESCRIPTION:Motorizmus\, Moto3\, Veľká cena Španielska
END:VEVENT
END:VCALENDAR
