BEGIN:VCALENDAR
VERSION:2.0
CALSCALE:GREGORIAN
PRODID:Sportnet.sk
METHOD:PUBLISH
X-PUBLISHED-TTL:PT1H
BEGIN:VEVENT
UID:tvprogram-cal:69cd16d8aae1188f030db5c0
SUMMARY:Nova Sport 6: Sprievodný program
DTSTAMP:20260315T134300Z
DTSTART:20260426T080000Z
DTEND:20260426T084500Z
DESCRIPTION:Motorizmus\, MotoGP\, Veľká cena Španielska
END:VEVENT
END:VCALENDAR
