BEGIN:VCALENDAR
VERSION:2.0
CALSCALE:GREGORIAN
PRODID:Sportnet.sk
METHOD:PUBLISH
X-PUBLISHED-TTL:PT1H
BEGIN:VEVENT
UID:tvprogram-cal:69cd16d8aae1188f030db5bc
SUMMARY:Nova Sport 6: Sterling vs. Zalal
DTSTAMP:20260315T134300Z
DTSTART:20260426T000000Z
DTEND:20260426T030000Z
DESCRIPTION:Bojové športy\, UFC Fight Night\, Las Vegas
END:VEVENT
END:VCALENDAR
