BEGIN:VCALENDAR
VERSION:2.0
CALSCALE:GREGORIAN
PRODID:Sportnet.sk
METHOD:PUBLISH
X-PUBLISHED-TTL:PT1H
BEGIN:VEVENT
UID:tvprogram-cal:69cd16d8aae1188f030db5b6
SUMMARY:Nova Sport 6: 1. FC Köln - Bayer Leverkusen
DTSTAMP:20260315T134300Z
DTSTART:20260425T134000Z
DTEND:20260425T154000Z
DESCRIPTION:Futbal\, Nemecko\, 31. kolo
END:VEVENT
END:VCALENDAR
