BEGIN:VCALENDAR
VERSION:2.0
CALSCALE:GREGORIAN
PRODID:Sportnet.sk
METHOD:PUBLISH
X-PUBLISHED-TTL:PT1H
BEGIN:VEVENT
UID:tvprogram-cal:69cd16d8aae1188f030db5ac
SUMMARY:Nova Sport 6: 2. voľný tréning
DTSTAMP:20260315T134300Z
DTSTART:20260425T072500Z
DTEND:20260425T081000Z
DESCRIPTION:Motorizmus\, Moto2\, Veľká cena Španielska
END:VEVENT
END:VCALENDAR
