BEGIN:VCALENDAR
VERSION:2.0
CALSCALE:GREGORIAN
PRODID:Sportnet.sk
METHOD:PUBLISH
X-PUBLISHED-TTL:PT1H
BEGIN:VEVENT
UID:tvprogram-cal:69cd16d8aae1188f030db5aa
SUMMARY:Nova Sport 6: 2. voľný tréning
DTSTAMP:20260315T134300Z
DTSTART:20260425T064000Z
DTEND:20260425T072500Z
DESCRIPTION:Motorizmus\, Moto3\, Veľká cena Španielska
END:VEVENT
END:VCALENDAR
