BEGIN:VCALENDAR
VERSION:2.0
CALSCALE:GREGORIAN
PRODID:Sportnet.sk
METHOD:PUBLISH
X-PUBLISHED-TTL:PT1H
BEGIN:VEVENT
UID:tvprogram-cal:69cd16d8aae1188f030db597
SUMMARY:Nova Sport 6: Oklahoma City Thunder - Phoenix Suns
DTSTAMP:20260315T134300Z
DTSTART:20260423T013500Z
DTEND:20260423T041000Z
DESCRIPTION:Basketbal\, NBA\, play-off
END:VEVENT
END:VCALENDAR
