BEGIN:VCALENDAR
VERSION:2.0
CALSCALE:GREGORIAN
PRODID:Sportnet.sk
METHOD:PUBLISH
X-PUBLISHED-TTL:PT1H
BEGIN:VEVENT
UID:tvprogram-cal:69cd16d8aae1188f030db535
SUMMARY:voyo.sk: Atlético Madrid - Athletic Bilbao
DTSTAMP:20260315T134300Z
DTSTART:20260425T185500Z
DTEND:20260425T210500Z
DESCRIPTION:Futbal\, Španielsko\, 32. kolo
END:VEVENT
END:VCALENDAR
