BEGIN:VCALENDAR
VERSION:2.0
CALSCALE:GREGORIAN
PRODID:Sportnet.sk
METHOD:PUBLISH
X-PUBLISHED-TTL:PT1H
BEGIN:VEVENT
UID:tvprogram-cal:69cd16d8aae1188f030db4f0
SUMMARY:Nova Sport 4: Getafe CF - FC Barcelona
DTSTAMP:20260315T134300Z
DTSTART:20260425T141000Z
DTEND:20260425T162500Z
DESCRIPTION:Futbal\, Španielsko\, 32. kolo
END:VEVENT
END:VCALENDAR
