BEGIN:VCALENDAR
VERSION:2.0
CALSCALE:GREGORIAN
PRODID:Sportnet.sk
METHOD:PUBLISH
X-PUBLISHED-TTL:PT1H
BEGIN:VEVENT
UID:tvprogram-cal:69cd16d8aae1188f030db4d8
SUMMARY:Nova Sport 4: Girona FC - Real Betis
DTSTAMP:20260315T134300Z
DTSTART:20260421T192500Z
DTEND:20260421T213500Z
DESCRIPTION:Futbal\, Španielsko\, 33. kolo
END:VEVENT
END:VCALENDAR
