BEGIN:VCALENDAR
VERSION:2.0
CALSCALE:GREGORIAN
PRODID:Sportnet.sk
METHOD:PUBLISH
X-PUBLISHED-TTL:PT1H
BEGIN:VEVENT
UID:tvprogram-cal:69cd16d8aae1188f030db494
SUMMARY:voyo.sk: 1. FSV Mainz 05 - Bayern Mnichov
DTSTAMP:20260315T134300Z
DTSTART:20260425T132000Z
DTEND:20260425T154500Z
DESCRIPTION:Futbal\, Nemecko\, 31. kolo
END:VEVENT
END:VCALENDAR
