BEGIN:VCALENDAR
VERSION:2.0
CALSCALE:GREGORIAN
PRODID:Sportnet.sk
METHOD:PUBLISH
X-PUBLISHED-TTL:PT1H
BEGIN:VEVENT
UID:tvprogram-cal:69cd16d8aae1188f030db492
SUMMARY:voyo.sk: Karlsruher SC - Hannover 96
DTSTAMP:20260315T134300Z
DTSTART:20260425T105500Z
DTEND:20260425T132000Z
DESCRIPTION:Futbal\, Nemecko 2\, 31. kolo
END:VEVENT
END:VCALENDAR
