BEGIN:VCALENDAR
VERSION:2.0
CALSCALE:GREGORIAN
PRODID:Sportnet.sk
METHOD:PUBLISH
X-PUBLISHED-TTL:PT1H
BEGIN:VEVENT
UID:tvprogram-cal:69cd16d8aae1188f030db43a
SUMMARY:Nova Sport 3: Toulouse FC - AS Monaco
DTSTAMP:20260315T134300Z
DTSTART:20260425T185500Z
DTEND:20260425T210500Z
DESCRIPTION:Futbal\, Francúzsko\, 31. kolo
END:VEVENT
END:VCALENDAR
