BEGIN:VCALENDAR
VERSION:2.0
CALSCALE:GREGORIAN
PRODID:Sportnet.sk
METHOD:PUBLISH
X-PUBLISHED-TTL:PT1H
BEGIN:VEVENT
UID:tvprogram-cal:69cd16d8aae1188f030db429
SUMMARY:Nova Sport 3: RB Lipsko - Union Berlín
DTSTAMP:20260315T134300Z
DTSTART:20260424T182000Z
DTEND:20260424T203500Z
DESCRIPTION:Futbal\, Nemecko\, 31. kolo
END:VEVENT
END:VCALENDAR
