BEGIN:VCALENDAR
VERSION:2.0
CALSCALE:GREGORIAN
PRODID:Sportnet.sk
METHOD:PUBLISH
X-PUBLISHED-TTL:PT1H
BEGIN:VEVENT
UID:tvprogram-cal:69cd16d8aae1188f030db421
SUMMARY:Nova Sport 3: Real Sociedad - Getafe CF
DTSTAMP:20260315T134300Z
DTSTART:20260422T175500Z
DTEND:20260422T202500Z
DESCRIPTION:Futbal\, Španielsko\, 33. kolo
END:VEVENT
END:VCALENDAR
