BEGIN:VCALENDAR
VERSION:2.0
CALSCALE:GREGORIAN
PRODID:Sportnet.sk
METHOD:PUBLISH
X-PUBLISHED-TTL:PT1H
BEGIN:VEVENT
UID:tvprogram-cal:69cd16d8aae1188f030db41e
SUMMARY:Nova Sport 3: Real Madrid - Deportivo Alavés
DTSTAMP:20260315T134300Z
DTSTART:20260421T192500Z
DTEND:20260421T213500Z
DESCRIPTION:Futbal\, Španielsko\, 33. kolo
END:VEVENT
END:VCALENDAR
