BEGIN:VCALENDAR
VERSION:2.0
CALSCALE:GREGORIAN
PRODID:Sportnet.sk
METHOD:PUBLISH
X-PUBLISHED-TTL:PT1H
BEGIN:VEVENT
UID:tvprogram-cal:69cd16d8aae1188f030db418
SUMMARY:Nova Sport 3: Deportivo La Coruña - CD Mirandés
DTSTAMP:20260315T134300Z
DTSTART:20260420T182500Z
DTEND:20260420T203500Z
DESCRIPTION:Futbal\, Španielsko 2\, 36. kolo
END:VEVENT
END:VCALENDAR
